BEGIN:VCALENDAR
VERSION:2.0
PRODID:-//Skaneateles Festival - ECPv6.15.17.1//NONSGML v1.0//EN
CALSCALE:GREGORIAN
METHOD:PUBLISH
X-WR-CALNAME:Skaneateles Festival
X-ORIGINAL-URL:https://skanfest.org
X-WR-CALDESC:Events for Skaneateles Festival
REFRESH-INTERVAL;VALUE=DURATION:PT1H
X-Robots-Tag:noindex
X-PUBLISHED-TTL:PT1H
BEGIN:VTIMEZONE
TZID:America/Detroit
BEGIN:DAYLIGHT
TZOFFSETFROM:-0500
TZOFFSETTO:-0400
TZNAME:EDT
DTSTART:20250309T070000
END:DAYLIGHT
BEGIN:STANDARD
TZOFFSETFROM:-0400
TZOFFSETTO:-0500
TZNAME:EST
DTSTART:20251102T060000
END:STANDARD
BEGIN:DAYLIGHT
TZOFFSETFROM:-0500
TZOFFSETTO:-0400
TZNAME:EDT
DTSTART:20260308T070000
END:DAYLIGHT
BEGIN:STANDARD
TZOFFSETFROM:-0400
TZOFFSETTO:-0500
TZNAME:EST
DTSTART:20261101T060000
END:STANDARD
BEGIN:DAYLIGHT
TZOFFSETFROM:-0500
TZOFFSETTO:-0400
TZNAME:EDT
DTSTART:20270314T070000
END:DAYLIGHT
BEGIN:STANDARD
TZOFFSETFROM:-0400
TZOFFSETTO:-0500
TZNAME:EST
DTSTART:20271107T060000
END:STANDARD
END:VTIMEZONE
BEGIN:VEVENT
DTSTART;TZID=America/Detroit:20260728T160000
DTEND;TZID=America/Detroit:20260728T170000
DTSTAMP:20260424T004044
CREATED:20260331T195939Z
LAST-MODIFIED:20260331T195946Z
UID:10000515-1785254400-1785258000@skanfest.org
SUMMARY:FREE\, SkanFest U: American Revolutions
DESCRIPTION:Skaneateles Festival\n			\n				\n				\n				\n				\n				SkanFest U: American Revolutions\n			\n				\n				\n				\n				\n				Four Tuesdays\, July 28- August 18\, 2026\n4:00 PM – 5:00 PM\nFirst Presbyterian Church\n			\n			\n				\n				\n				\n				\n				\n			\n				\n				\n				\n				\n			\n				\n				\n			\n				\n				\n				\n				\n				\n				\n				\n				\n				\n				\n				\n				\n				\n				\n				\n				\n				\n				Event Sponsored by:\nThe Julie Sharpe Fund\n			\n				\n				\n				\n				\n				SkanFest U: American Revolutions\n			\n			\n				\n				\n				\n				\n			\n				\n				\n			\n				\n				\n				\n				\n				\n				\n				\n				\n				\n				\n				\n				\n				\n				\n				\n				\n				\n				This season’s educational program explores the American musicians whose free-thinking spirit changed the course of music and even the way we listen today. Focusing on moments of innovation\, the course will highlight music by classical composers Aaron Copland\, Samuel Barber\, Amy Beach\, Leonard Bernstein\, and William Grant Still; jazz pioneers Duke Ellington\, Miles Davis\, and Ornette Coleman; and freethinkers Edgar Varèse\, John Cage\, Terry Riley\, Julius Eastman\, Pauline Oliveros\, as well as younger composers living and working today. Hear exclusive live performances by Festival artists and mingle with your fellow music enthusiasts afterward over a glass of wine.  \n  \nFour weekly sessions are led by Artistic Director\, Aaron Wunsch\, who teaches at The Juilliard School.  \nFour Tuesdays\, 7/28 – 8/18\, 4:00-5:00 PM  \nAfter the lecture\, there will be a small wine reception. \nThis event is free and no ticket is required. \n			\n			\n				\n				\n				\n				\n				\n				\n				\n				\n				\n				\n			\n				Meet Aaron Wunsch\n			\n			\n				\n				\n				\n				\n			\n				\n				\n			\n				\n				\n				\n				\n				\n				\n				\n				\n				\n				\n				\n				\n				\n				\n				\n				\n				\n				WEEKDAY EVENING CONCERTS\n			\n				\n				\n				\n				\n				First Presbyterian Church\n			\n			\n				\n				\n				\n				\n			\n				\n				\n			\n				\n				\n				\n				\n				\n				\n				\n				\n				\n				\n				\n				\n				\n				\n				\n				\n				\n				The facility was rebuilt in 1998 and the church committed to using the building as a community resource to provide space for and host various Art Shows and Music Festivals\, Education programs\, Co-ops\, and Community based youth programs.\n			\n			\n				\n				\n				\n				\n			\n				\n				\n				\n				\n				\n				\n				\n				\n				\n				\n				97 E. Genesee St\, Skaneateles\, NY 13152 \nParking for the First Presbyterian Church along Genesee Street or in the municipal parking lot located behind M&T Bank on Genesee St. or Doug’s Fish Fry on Jordan. There is also free parking at Skaneateles High School. \nFrom Syracuse and points east: Take Rte. 690 West to 695 West\, then follow exit sign to Rte. 5 West. At the second light\, turn left onto Rte. 321 (Bennetts Corners Road). Follow 321 until it ends in downtown Skaneateles. Turn left onto Genesee Street. The church is on the left\, directly across from Lakeside Park and the Episcopal Church. \nFrom Auburn and points west: Take Route 20 (Genesee Street) to Skaneateles. Go through the center village and the church will be on the left\, directly across from Lakeside Park and the Episcopal Church.\n			\n				\n				\n				\n				\n				\n			\n			\n				\n				\n				\n				\n				\n				\n				\n				\n				\n				SEATING\n				Doors open at 7:30pm – Concerts begin promptly at 8pm \nThe church is air-conditioned and the seats are cushioned church pews. \nAll seating is “first come\, first served” with“A” ticket seating being designated in the front rows of the church and “B” ticket seating in the back ½ of the church.\n			\n				\n				\n				\n				\n				FOOD AND DRINK\n				Light refreshments may be available for purchase at Intermission. There are many restaurants located in the Village within an easy walk or short drive of the church. See listing of “Friends of the Festival” restaurants.\n			\n				\n				\n				\n				\n				HANDICAP ACCESSIBILITY\n				We are happy to accommodate any accessibility needs of patrons and handicap seating is available in all price levels. Please call our office at 315-685-7418 so that we can ensure the best accommodations.\n			\n				\n				\n				\n				\n				PREPARING\n				Attendance may be at capacity\, so come early to assure yourselves of parking nearby and the seating you prefer. \nAcoustics are outstanding in the church\, so there are no bad seats sound-wise\, but as with all venues\, aisle seats may be at a premium. \nBathrooms are located in multiple locations at the church.\n			\n				\n				\n				\n				\n				SKANEATELES FESTIVAL MERCHANDISE\n				A variety of Skaneateles Festival merchandise will be available for purchase before each concert and during intermission. \nGuest artist CDs may be available on the nights they perform. \nCredit cards and cash are both welcome.\n			\n				\n				\n				\n				\n				PHOTOGRAPHY AND CELL PHONES\n				We would love for you to take lots of photos before and after the concerts and tag us on social media! We ask that you be considerate during the concert by silencing your phones and being aware of how your photography may be affecting your neighbors’ experience; we want everyone to enjoy the music in the moment. Please do not use flash during the concert.\n			\n			\n				\n				\n				\n				\n			\n				\n				\n			\n				\n				\n				\n				\n				\n				\n				\n				\n				\n				\n				\n				\n				\n				\n				\n				\n				\n				\n			\n				\n				\n				\n				\n				FAQs\n			\n				\n				\n				\n				\n				Got questions? We’ve got you covered. Check out our Frequently Asked Questions below to to ensure you have the best experience at your event.\n			\n				frequently asked questions\n			\n			\n				\n				\n				\n				\n				\n				\n				\n				\n				\n				\n			\n				\n				\n				\n				\n				Plan Your Trip\n			\n				\n				\n				\n				\n				Skaneateles is the eastern gateway to the Finger Lakes Region of Central New York State. Our Lake is at the center of all we do\, and is the lifeblood of the community. Within the Village and the surrounding environment there is a variety of wonderful places to eat\, shop\, stay\, and explore what makes Skaneateles so unique.\n			\n				plan your visit\n			\n			\n				\n				\n				\n				\n			\n				\n				\n			\n				\n				\n				\n				\n				\n				\n				\n				\n				\n			\n				\n				\n				\n				\n				\n				\n				\n				\n				\n				\n				\n				\n				\n				\n				\n				\n				\n				We hope to see you soon!\n			\n			\n				\n				\n				\n				\n				\n				see all our events\n			\n			\n				\n				\n				\n				\n				\n				get tickets\n			\n			\n				\n				\n				\n				\n			\n				\n				\n			\n				\n				\n				\n				\n				\n				\n				\n				\n				\n				\n				\n				\n				\n				\n				\n				\n				\n				\n			\n			\n				\n				\n				\n				\n				\n				\n				\n				\n				\n				2022 SKANEATELES FESTIVAL | TERMS AND CONDITIONS | PRIVACY POLICY\n			\n			\n				\n				\n				\n				\n			\n				\n				\n				\n				\n				\n				\n				\n				\n				\n				\n				97 E. GENESEE STREET | SKANEATELES\, NY 13152 | 315.685.7418| MUSIC@SKANFEST.ORG\n			\n			\n				\n				\n				\n				\n				\n				\n				\n				\n				\n				FollowFollowFollow
URL:https://skanfest.org/event/free-skanfest-u-american-revolutions/2026-07-28/
LOCATION:First Presbyterian Church\, 97 East Genesee St\, Skaneateles\, NY\, 13152\, United States
ATTACH;FMTTYPE=image/jpeg:https://skanfest.org/wp-content/uploads/2026/02/Aaron-Wunsch-5-Web-1.jpg
END:VEVENT
BEGIN:VEVENT
DTSTART;TZID=America/Detroit:20260730T193000
DTEND;TZID=America/Detroit:20260730T210000
DTSTAMP:20260424T004044
CREATED:20260330T180444Z
LAST-MODIFIED:20260401T190306Z
UID:10000496-1785439800-1785445200@skanfest.org
SUMMARY:Opening Night: Revolutionary Portraits
DESCRIPTION:Skaneateles Festival\n			\n				\n				\n				\n				\n				Opening Night: Revolutionary Portraits\n			\n				\n				\n				\n				\n				Thurs. July 30\, 2026\n7:30 PM\nFirst Presbyterian Church of Skaneateles\n			\n				\n				\n				\n				\n				\n				\n				\n					\n				\n				\n				\n				\n				\n				\n				\n					Season Pass On Sale Now!\n				\n			\n				\n			\n			\n				\n				\n				\n				\n				\n				\n				\n				\n				\n				\n				\n					\n				\n				\n			\n			\n				\n				\n				\n				\n			\n				\n				\n			\n				\n				\n				\n				\n				\n				\n				\n				\n				\n				\n				\n				\n				\n				\n				\n				\n				\n				Event Sponsored by:\n			\n			\n				\n				\n				\n				\n			\n				\n				\n				\n				\n				\n				\n				\n				\n				\n				\n				Doug and Peg Whitehouse\n \n\n			\n			\n				\n				\n				\n				\n			\n				\n				\n			\n				\n				\n				\n				\n				\n				\n				\n				\n				\n				\n				\n				\n				\n				\n				\n				\n				\n				\n				\n				\n				\n				\n				The multiple GRAMMY Award-winning Pacifica Quartet kicks off the Festival’s 47th season\, also the 250th anniversary of the Declaration of Independence. Their program with narrator honors trailblazing women who have helped shape our nation. The evening features two commissions for narrator and string quartet: Jennifer Higdon’s tribute to Justice Ruth Bader Ginsburg and Gabriela Lena Frank’s portrait of environmental pioneer Rachel Carson—each blending powerful narration with vivid musical storytelling. The program ends with Dvořák’s beloved “American” Quartet. \n  \nProgram: \nMENDELSSOHN String Quartet\, Op. 13 \nGABRIELA LENA FRANK New work for Narrator and String Quartet \nJENNIFER HIGDON New work for Narrator and String Quartet \nDVOŘÁK String Quartet\, Op. 96 (“American”)
URL:https://skanfest.org/event/opening-night-revolutionary-portraits/
LOCATION:First Presbyterian Church\, 97 East Genesee St\, Skaneateles\, NY\, 13152\, United States
ATTACH;FMTTYPE=image/jpeg:https://skanfest.org/wp-content/uploads/2026/02/Pacifica-Quartet-9_credit-Lisa-Marie-Mazzucco-scaled.jpg
END:VEVENT
BEGIN:VEVENT
DTSTART;TZID=America/Detroit:20260731T193000
DTEND;TZID=America/Detroit:20260731T210000
DTSTAMP:20260424T004045
CREATED:20260330T183419Z
LAST-MODIFIED:20260401T190508Z
UID:10000492-1785526200-1785531600@skanfest.org
SUMMARY:Pacifica Quartet and Aaron Wunsch
DESCRIPTION:Skaneateles Festival\n			\n				\n				\n				\n				\n				Pacifica Quartet & Aaron Wunsch\n			\n				\n				\n				\n				\n				Fri. July 31\, 2026\n7:30 PM\nFirst Presbyterian Church of Skaneateles\n			\n				\n				\n				\n				\n				\n				\n				\n					\n				\n				\n				\n				\n				\n				\n				\n					Season Passes On Sale Now!\n				\n			\n				\n			\n			\n				\n				\n				\n				\n				\n				\n				\n				\n				\n				\n				\n					\n				\n				\n			\n			\n				\n				\n				\n				\n			\n				\n				\n			\n				\n				\n				\n				\n				\n				\n				\n				\n				\n				\n				\n				\n				\n				\n				\n				\n				\n				\n				\n				\n				\n				\n				The Pacifica Quartet is known for performances that are “engrossing\, characterful…with a luminescent tranquility [and] spine-tingling intensity” (The New York Times). They offer classic quartets by Haydn and Barber (including the famous Adagio for Strings\, in its original quartet version)\, and Artistic Director Aaron Wunsch joins for César Franck’s intensely passionate Piano Quintet.  \n \nProgram: \nHAYDN String Quartet\, Op. 33\, No. 1 \nBARBER String Quartet\, Op. 11 \nFRANCK Piano Quintet
URL:https://skanfest.org/event/pacifica-quartet-and-aaron-wunsch/
LOCATION:First Presbyterian Church\, 97 East Genesee St\, Skaneateles\, NY\, 13152\, United States
ATTACH;FMTTYPE=image/jpeg:https://skanfest.org/wp-content/uploads/2026/03/Pacifica-Quartet-5_credit-Lisa-Marie-Mazzucco-scaled.jpg
END:VEVENT
BEGIN:VEVENT
DTSTART;TZID=America/Detroit:20260806T193000
DTEND;TZID=America/Detroit:20260806T210000
DTSTAMP:20260424T004045
CREATED:20260330T182300Z
LAST-MODIFIED:20260401T190738Z
UID:10000490-1786044600-1786050000@skanfest.org
SUMMARY:Imani Winds & Andy Akiho
DESCRIPTION:Skaneateles Festival\n			\n				\n				\n				\n				\n				Imani Winds & Andy Akiho\n			\n				\n				\n				\n				\n				Thurs. August 6\, 2026\n7:30 PM\nFirst Presbyterian Church of Skaneateles\n			\n				\n				\n				\n				\n				\n				\n				\n					\n				\n				\n				\n				\n				\n				\n				\n					Season Passes On Sale Now!\n				\n			\n				\n			\n			\n				\n				\n				\n				\n				\n				\n				\n				\n				\n				\n				\n					\n				\n				\n			\n			\n				\n				\n				\n				\n			\n				\n				\n			\n				\n				\n				\n				\n				\n				\n				\n				\n				\n				\n				\n				\n				\n				\n				\n				\n				\n				\n				\n				\n				\n				\n				Winners of a 2024 GRAMMY award\, the Imani Winds have led a revolution of the wind quintet through their charismatic performances\, adventurous programming\, and imaginative collaborations. They are joined by Andy Akiho\, a virtuoso on the steel pan\, for selections from BeLonging\, inspired by the sounds and protests of immigrants held at a Brooklyn detention center. The rest of their program dances a path from France\, to New Orleans\, to Latin America. Hear why “Imani’s got it all” (Philadelphia Enquirer). \n  \nProgram: \nJEAN FRANÇAIX Quintet No. 2 \nLALO SCHIFRIN La Nouvelle Orleans (New Orleans) \nPAQUITO D’RIVERA Aires Tropicales and A Little Cuban Waltz \nSTEVIE WONDER Overjoyed\, arr. Mark Dover (1985) \nANDY AKIHO Selections from BeLonging \n\n			\n			\n				\n				\n				\n				\n			\n				\n				\n				\n				\n				\n				\n				\n				\n				\n				\n				  \n\n			\n			\n				\n				\n				\n				\n				\n				\n				\n				\n				\n				\n			\n				Listen to the album
URL:https://skanfest.org/event/imani-winds-andy-akiho/
LOCATION:First Presbyterian Church\, 97 East Genesee St\, Skaneateles\, NY\, 13152\, United States
ATTACH;FMTTYPE=image/jpeg:https://skanfest.org/wp-content/uploads/2026/03/IW-337-scaled.jpg
END:VEVENT
BEGIN:VEVENT
DTSTART;TZID=America/Detroit:20260807T193000
DTEND;TZID=America/Detroit:20260807T210000
DTSTAMP:20260424T004045
CREATED:20260327T151103Z
LAST-MODIFIED:20260415T180423Z
UID:10000489-1786131000-1786136400@skanfest.org
SUMMARY:Garrick Ohlsson in Recital
DESCRIPTION:Skaneateles Festival\n			\n				\n				\n				\n				\n				Garrick Ohlsson in Recital\n			\n				\n				\n				\n				\n				Fri. August 7\, 2026\n7:30 PM\nFirst Presbyterian Church of Skaneateles\n\n			\n				\n				\n				\n				\n				\n				\n				\n					\n				\n				\n				\n				\n				\n				\n				\n					Season Passes On Sale Now!\n				\n			\n				\n			\n			\n				\n				\n				\n				\n				\n				\n				\n				\n				\n				\n				\n					\n				\n				\n			\n			\n				\n				\n				\n				\n			\n				\n				\n			\n				\n				\n				\n				\n				\n				\n				\n				\n				\n				\n				\n				\n				\n				\n				\n				\n				\n				Event Sponsored by:\n			\n			\n				\n				\n				\n				\n			\n				\n				\n				\n				\n				\n				\n				\n				\n				\n				\n				Larry and Tracy Sala\nPiano sponsored by: Sarah and Kevin Goode \n			\n			\n				\n				\n				\n				\n			\n				\n				\n			\n				\n				\n				\n				\n				\n				\n				\n				\n				\n				\n				\n				\n				\n				\n				\n				\n				\n				\n				\n				\n				\n				\n				Pianist Garrick Ohlsson is one of the great classical musicians of our time. The first American ever to win the Chopin International Piano Competition in Warsaw\, Ohlsson is renowned for his Chopin interpretations. Don’t miss this rare chance to hear him perform Chopin’s music with an insight and virtuosity that are “nothing short of heroic” (Boston Globe). \n  \nProgram: \nSHOSTAKOVICH Prelude and Fugue in E minor\, op. 87\, no. 4 \nBRAHMS Variations and Fugue on a Theme by Händel\, op. 24 \nCHOPIN Barcarolle\, op. 60 \nCHOPIN Piano Sonata No. 3 in B minor\, op. 58
URL:https://skanfest.org/event/garrick-ohlsson-in-recital/
LOCATION:First Presbyterian Church\, 97 East Genesee St\, Skaneateles\, NY\, 13152\, United States
ATTACH;FMTTYPE=image/jpeg:https://skanfest.org/wp-content/uploads/2026/01/Garrick-Olhsson-1-scaled.jpg
END:VEVENT
BEGIN:VEVENT
DTSTART;TZID=America/Detroit:20260812T143000
DTEND;TZID=America/Detroit:20260812T160000
DTSTAMP:20260424T004045
CREATED:20260330T182054Z
LAST-MODIFIED:20260401T191328Z
UID:10000508-1786545000-1786550400@skanfest.org
SUMMARY:Matinée: An Afternoon with Friends
DESCRIPTION:Skaneateles Festival\n			\n				\n				\n				\n				\n				Matinée: Afternoon with Friends\n			\n				\n				\n				\n				\n				Wed. Aug 12\, 2026\n2:30 PM\nFirst Presbyterian Church of Skaneateles\n			\n				\n				\n				\n				\n				\n				\n				\n					\n				\n				\n				\n				\n				\n				\n				\n					Season Passes On Sale Now!\n				\n			\n				\n			\n			\n				\n				\n				\n				\n				\n				\n				\n				\n				\n				\n				\n					\n				\n				\n			\n			\n				\n				\n				\n				\n			\n				\n				\n			\n				\n				\n				\n				\n				\n				\n				\n				\n				\n				\n				\n				\n				\n				\n				\n				\n				\n				\n				\n				\n				\n				\n				Artistic directors Julia Bruskin and Aaron Wunsch are joined by violinist David McCarroll for a matinee performance. McCarroll has been described by Musik Heute as “a violinist of mature musicality and deep understanding of his repertoire whose playing is distinguished by clarity of form and line.” \n \nProgram: \nMOZART Violin Sonata in G Major\, K. 301 \nBERNSTEIN Two movements from Mass for Cello and Piano \nDVORAK Trio No. 4 in E minor “Dumky“
URL:https://skanfest.org/event/matinee-an-afternoon-with-friends/
LOCATION:First Presbyterian Church\, 97 East Genesee St\, Skaneateles\, NY\, 13152\, United States
ATTACH;FMTTYPE=image/jpeg:https://skanfest.org/wp-content/uploads/2026/03/David-McCarroll-1-scaled.jpg
END:VEVENT
BEGIN:VEVENT
DTSTART;TZID=America/Detroit:20260813T193000
DTEND;TZID=America/Detroit:20260813T210000
DTSTAMP:20260424T004046
CREATED:20260330T181927Z
LAST-MODIFIED:20260420T144704Z
UID:10000509-1786649400-1786654800@skanfest.org
SUMMARY:American Revolutions
DESCRIPTION:Skaneateles Festival\n			\n				\n				\n				\n				\n				American Revolutions\n			\n				\n				\n				\n				\n				Thurs. Aug 13\, 2026\n7:30 PM\nFirst Presbyterian Church of Skaneateles\n			\n				\n				\n				\n				\n				\n				\n				\n					\n				\n				\n				\n				\n				\n				\n				\n					Season Passes On Sale Now!\n				\n			\n				\n			\n			\n				\n				\n				\n				\n				\n				\n				\n				\n				\n				\n				\n					\n				\n				\n			\n			\n				\n				\n				\n				\n			\n				\n				\n			\n				\n				\n				\n				\n				\n				\n				\n				\n				\n				\n				\n				\n				\n				\n				\n				\n				\n				\n				\n				\n				\n				\n				Upon the 250th anniversary of the Declaration of Independence\, the Skaneateles Festival considers how the founders’ revolutionary spirit has persisted in American arts and culture as the search for “a more perfect union” continues. Soprano and former Robinson Award Winner Elizabeth Sutphen (“impressive\,” New York Times) performs beloved American songs as well as a new Festival commission about women’s suffrage and the Seneca Falls Convention. Flutist Violinist David McCarroll performs American classics by Copland and Ives. \n  \nProgram: \nCOPLAND Duo for Flute and Piano \nSong selections by BERNSTEIN\, BARBER\, IVES\, and AMY BEACH \nIVES Trio for Violin\, Cello\, and Piano \nNew Work – Commissioned by the Skaneateles Festival
URL:https://skanfest.org/event/american-revolutions/
LOCATION:First Presbyterian Church\, 97 East Genesee St\, Skaneateles\, NY\, 13152\, United States
ATTACH;FMTTYPE=image/avif:https://skanfest.org/wp-content/uploads/2026/03/Elizabeth-Sutphen-7.avif
END:VEVENT
BEGIN:VEVENT
DTSTART;TZID=America/Detroit:20260814T193000
DTEND;TZID=America/Detroit:20260814T210000
DTSTAMP:20260424T004046
CREATED:20260330T184938Z
LAST-MODIFIED:20260420T173711Z
UID:10000510-1786735800-1786741200@skanfest.org
SUMMARY:From the Forest to the Ocean
DESCRIPTION:Skaneateles Festival\n			\n				\n				\n				\n				\n				From the Forest to the Ocean\n			\n				\n				\n				\n				\n				Fri. Aug 14\, 2026\n7:30 PM\nFirst Presbyterian Church of Skaneateles\n			\n				\n				\n				\n				\n				\n				\n				\n					\n				\n				\n				\n				\n				\n				\n				\n					Season Passes On Sale Now!\n				\n			\n				\n			\n			\n				\n				\n				\n				\n				\n				\n				\n				\n				\n				\n				\n					\n				\n				\n			\n			\n				\n				\n				\n				\n			\n				\n				\n			\n				\n				\n				\n				\n				\n				\n				\n				\n				\n				\n				\n				\n				\n				\n				\n				\n				\n				Event Sponsored by:\n			\n			\n				\n				\n				\n				\n			\n				\n				\n				\n				\n				\n				\n				\n				\n				\n				\n				Chris Johnson and Barbara Durr\nPiano Sponsored by: Sarah and Kevin Goode \n\n\n			\n			\n				\n				\n				\n				\n			\n				\n				\n			\n				\n				\n				\n				\n				\n				\n				\n				\n				\n				\n				\n				\n				\n				\n				\n				\n				\n				\n				\n				\n				\n				\n				From the sounds of the Bohemian forest to the ancient echoes of the ocean\, this program captures the imagination with music inspired by Nature. Violinist David McCarroll (“superlative musicianship and beautiful sound\,” Washington Post)\, leads Brahms’ Piano Quartet No. 2. Artistic Directors Aaron Wunsch and Julia Bruskin offer Beethoven’s sunny Cello Sonata No. 4.  \n  \nProgram: \nBEETHOVEN Cello Sonata No. 4\, Op. 102\, No. 1 \nGEORGE CRUMB Voice of the Whale \nBRAHMS Piano Quartet No. 2 in A Major
URL:https://skanfest.org/event/from-the-forest-to-the-ocean/
LOCATION:First Presbyterian Church\, 97 East Genesee St\, Skaneateles\, NY\, 13152\, United States
ATTACH;FMTTYPE=image/jpeg:https://skanfest.org/wp-content/uploads/2026/03/David-McCarroll-7-1-scaled.jpg
END:VEVENT
BEGIN:VEVENT
DTSTART;TZID=America/Detroit:20260820T193000
DTEND;TZID=America/Detroit:20260820T210000
DTSTAMP:20260424T004046
CREATED:20260330T184708Z
LAST-MODIFIED:20260415T183556Z
UID:10000497-1787254200-1787259600@skanfest.org
SUMMARY:Terra String Quartet
DESCRIPTION:Skaneateles Festival\n			\n				\n				\n				\n				\n				Meet the Terra String Quartet\n			\n				\n				\n				\n				\n				Thurs. Aug 20\, 2026\n7:30 PM\nFirst Presbyterian Church of Skaneateles\n			\n				\n				\n				\n				\n				\n				\n				\n					\n				\n				\n				\n				\n				\n				\n				\n					Season Passes On Sale Now!\n				\n			\n				\n			\n			\n				\n				\n				\n				\n				\n				\n				\n				\n				\n				\n				\n					\n				\n				\n			\n				\n				\n				\n				\n				\n			\n			\n				\n				\n				\n				\n			\n				\n				\n			\n				\n				\n				\n				\n				\n				\n				\n				\n				\n				\n				\n				\n				\n				\n				\n				\n				\n				\n				\n				\n				\n				\n				The swiftly rising Terra String Quartet is the Skaneateles Festival’s 2026 Emerging Artist in Residence. Their name is a nod to their multicultural origins\, representing four continents and speaking six languages. They are winners of the 2025 Naumburg Chamber Music Competition and prizewinners at the 2025 Bordeaux and Wigmore Hall International Quartet Competitions. Hear why they “have a great future ahead of them” (Third Coast Review). \n  \nProgram: \nSCHUBERT String Quartet\, D. 804 (“Rosamunde”) \nJURI SEO String Quartet No. 2 “Overgrown Paths” \nBRITTEN String Quartet No. 2
URL:https://skanfest.org/event/terra-string-quartet/
LOCATION:First Presbyterian Church\, 97 East Genesee St\, Skaneateles\, NY\, 13152\, United States
ATTACH;FMTTYPE=image/png:https://skanfest.org/wp-content/uploads/2026/01/Terra-Quartet-5.png
END:VEVENT
END:VCALENDAR