BEGIN:VCALENDAR
VERSION:2.0
PRODID:-//Skaneateles Festival - ECPv6.15.17.1//NONSGML v1.0//EN
CALSCALE:GREGORIAN
METHOD:PUBLISH
X-WR-CALNAME:Skaneateles Festival
X-ORIGINAL-URL:https://skanfest.org
X-WR-CALDESC:Events for Skaneateles Festival
REFRESH-INTERVAL;VALUE=DURATION:PT1H
X-Robots-Tag:noindex
X-PUBLISHED-TTL:PT1H
BEGIN:VTIMEZONE
TZID:America/Detroit
BEGIN:DAYLIGHT
TZOFFSETFROM:-0500
TZOFFSETTO:-0400
TZNAME:EDT
DTSTART:20250309T070000
END:DAYLIGHT
BEGIN:STANDARD
TZOFFSETFROM:-0400
TZOFFSETTO:-0500
TZNAME:EST
DTSTART:20251102T060000
END:STANDARD
BEGIN:DAYLIGHT
TZOFFSETFROM:-0500
TZOFFSETTO:-0400
TZNAME:EDT
DTSTART:20260308T070000
END:DAYLIGHT
BEGIN:STANDARD
TZOFFSETFROM:-0400
TZOFFSETTO:-0500
TZNAME:EST
DTSTART:20261101T060000
END:STANDARD
BEGIN:DAYLIGHT
TZOFFSETFROM:-0500
TZOFFSETTO:-0400
TZNAME:EDT
DTSTART:20270314T070000
END:DAYLIGHT
BEGIN:STANDARD
TZOFFSETFROM:-0400
TZOFFSETTO:-0500
TZNAME:EST
DTSTART:20271107T060000
END:STANDARD
END:VTIMEZONE
BEGIN:VEVENT
DTSTART;TZID=America/Detroit:20260820T193000
DTEND;TZID=America/Detroit:20260820T210000
DTSTAMP:20260420T073738
CREATED:20260330T184708Z
LAST-MODIFIED:20260415T183556Z
UID:10000497-1787254200-1787259600@skanfest.org
SUMMARY:Terra String Quartet
DESCRIPTION:Skaneateles Festival\n			\n				\n				\n				\n				\n				Meet the Terra String Quartet\n			\n				\n				\n				\n				\n				Thurs. Aug 20\, 2026\n7:30 PM\nFirst Presbyterian Church of Skaneateles\n			\n				\n				\n				\n				\n				\n				\n				\n					\n				\n				\n				\n				\n				\n				\n				\n					Season Passes On Sale Now!\n				\n			\n				\n			\n			\n				\n				\n				\n				\n				\n				\n				\n				\n				\n				\n				\n					\n				\n				\n			\n				\n				\n				\n				\n				\n			\n			\n				\n				\n				\n				\n			\n				\n				\n			\n				\n				\n				\n				\n				\n				\n				\n				\n				\n				\n				\n				\n				\n				\n				\n				\n				\n				\n				\n				\n				\n				\n				The swiftly rising Terra String Quartet is the Skaneateles Festival’s 2026 Emerging Artist in Residence. Their name is a nod to their multicultural origins\, representing four continents and speaking six languages. They are winners of the 2025 Naumburg Chamber Music Competition and prizewinners at the 2025 Bordeaux and Wigmore Hall International Quartet Competitions. Hear why they “have a great future ahead of them” (Third Coast Review). \n  \nProgram: \nSCHUBERT String Quartet\, D. 804 (“Rosamunde”) \nJURI SEO String Quartet No. 2 “Overgrown Paths” \nBRITTEN String Quartet No. 2
URL:https://skanfest.org/event/terra-string-quartet/
LOCATION:First Presbyterian Church\, 97 East Genesee St\, Skaneateles\, NY\, 13152\, United States
ATTACH;FMTTYPE=image/png:https://skanfest.org/wp-content/uploads/2026/01/Terra-Quartet-5.png
END:VEVENT
END:VCALENDAR