BEGIN:VCALENDAR
VERSION:2.0
PRODID:-//Skaneateles Festival - ECPv6.15.17.1//NONSGML v1.0//EN
CALSCALE:GREGORIAN
METHOD:PUBLISH
X-WR-CALNAME:Skaneateles Festival
X-ORIGINAL-URL:https://skanfest.org
X-WR-CALDESC:Events for Skaneateles Festival
REFRESH-INTERVAL;VALUE=DURATION:PT1H
X-Robots-Tag:noindex
X-PUBLISHED-TTL:PT1H
BEGIN:VTIMEZONE
TZID:America/Detroit
BEGIN:DAYLIGHT
TZOFFSETFROM:-0500
TZOFFSETTO:-0400
TZNAME:EDT
DTSTART:20250309T070000
END:DAYLIGHT
BEGIN:STANDARD
TZOFFSETFROM:-0400
TZOFFSETTO:-0500
TZNAME:EST
DTSTART:20251102T060000
END:STANDARD
BEGIN:DAYLIGHT
TZOFFSETFROM:-0500
TZOFFSETTO:-0400
TZNAME:EDT
DTSTART:20260308T070000
END:DAYLIGHT
BEGIN:STANDARD
TZOFFSETFROM:-0400
TZOFFSETTO:-0500
TZNAME:EST
DTSTART:20261101T060000
END:STANDARD
BEGIN:DAYLIGHT
TZOFFSETFROM:-0500
TZOFFSETTO:-0400
TZNAME:EDT
DTSTART:20270314T070000
END:DAYLIGHT
BEGIN:STANDARD
TZOFFSETFROM:-0400
TZOFFSETTO:-0500
TZNAME:EST
DTSTART:20271107T060000
END:STANDARD
END:VTIMEZONE
BEGIN:VEVENT
DTSTART;TZID=America/Detroit:20260808T200000
DTEND;TZID=America/Detroit:20260808T213000
DTSTAMP:20260420T073758
CREATED:20260327T145600Z
LAST-MODIFIED:20260417T170910Z
UID:10000488-1786219200-1786224600@skanfest.org
SUMMARY:Beethoven Under the Stars with Garrick Ohlsson
DESCRIPTION:Skaneateles Festival\n			\n				\n				\n				\n				\n				Beethoven Under the Stars with Garrick Ohlsson\n			\n				\n				\n				\n				\n				Sat. August 8\, 2026\n8:00 PM\nRobinson Pavilion at Anyela’s Vineyards\n\n			\n				\n				\n				\n				\n				\n				\n				\n					\n				\n				\n				\n				\n				\n				\n				\n					Season Passes On Sale Now!\n				\n			\n				\n			\n			\n				\n				\n				\n				\n				\n				\n				\n				\n				\n				\n				\n					\n				\n				\n			\n			\n				\n				\n				\n				\n			\n				\n				\n			\n				\n				\n				\n				\n				\n				\n				\n				\n				\n				\n				\n				\n				\n				\n				\n				\n				\n				Event Sponsored by:\n			\n			\n				\n				\n				\n				\n			\n				\n				\n				\n				\n				\n				\n				\n				\n				\n				\n				Elsa and Peter Soderberg\n\n			\n				\n				\n				\n				\n				Piano Sponsored by: Sarah and Kevin Goode \n			\n			\n				\n				\n				\n				\n			\n				\n				\n			\n				\n				\n				\n				\n				\n				\n				\n				\n				\n				\n				\n				\n				\n				\n				\n				\n				\n				\n				\n				\n				\n				\n				This season’s big orchestra concert brings together two Beethoven “Fours”: his sunny Fourth Symphony and his lyrical Fourth Piano Concerto. American pianist Garrick Ohlsson\, widely considered one of the greatest of our time\, joins with his stupendous  “technique\, endurance\, and vigor that a pianist half his age would envy” (New York Review of Books). Linking the two Beethoven selections is American composer Jessie Montgomery’s brilliant Starburst.  \n  \nProgram: \nBEETHOVEN Symphony No. 4 \nJESSIE MONTGOMERY Starburst \nBEETHOVEN Piano Concerto No. 4
URL:https://skanfest.org/event/skaneateles-orchestra/
LOCATION:Robinson Pavilion at Anyela’s Vineyards\, 2433 West Lake Rd\, Skaneateles\, NY\, 13152\, United States
ATTACH;FMTTYPE=image/jpeg:https://skanfest.org/wp-content/uploads/2026/01/Garrick-Olhsson-4.jpg
END:VEVENT
END:VCALENDAR